BEGIN:VCALENDAR
VERSION:2.0
PRODID:-//Mzuzu University - ECPv6.15.14//NONSGML v1.0//EN
CALSCALE:GREGORIAN
METHOD:PUBLISH
X-ORIGINAL-URL:https://www.mzuni.ac.mw
X-WR-CALDESC:Events for Mzuzu University
REFRESH-INTERVAL;VALUE=DURATION:PT1H
X-Robots-Tag:noindex
X-PUBLISHED-TTL:PT1H
BEGIN:VTIMEZONE
TZID:UTC
BEGIN:STANDARD
TZOFFSETFROM:+0000
TZOFFSETTO:+0000
TZNAME:UTC
DTSTART:20250101T000000
END:STANDARD
END:VTIMEZONE
BEGIN:VEVENT
DTSTART;TZID=UTC:20260109T073000
DTEND;TZID=UTC:20260109T170000
DTSTAMP:20260422T223300
CREATED:20260101T234424Z
LAST-MODIFIED:20260102T163309Z
UID:151959-1767943800-1767978000@www.mzuni.ac.mw
SUMMARY:28th University Congregation Ceremony
DESCRIPTION:Mzuzu University wishes to inform graduating students\, parents\, guardians\, and the general public that the 28th University Congregation will be held on Friday\, 9th January 2026\, starting at 7:30 AM at the Auction Holdings Limited (AHL) Complex\, Luwinga\, Mzuzu. \nThe Congregation will be presided over by the Vice-Chancellor\, Professor Wales Singini\, on behalf of the Chancellor\, His Excellency Professor Arthur Peter Mutharika\, President of the Republic of Malawi. During the ceremony\, certificates\, diplomas\, and degrees will be conferred on eligible candidates from selected faculties and programmes.
URL:https://www.mzuni.ac.mw/event/28th-university-congregation-ceremony/
LOCATION:Auction Holdings Limited (AHL)\, Auction Holdings Limited (AHL) Complex\, Luwinga\, Mzuzu.\, Mzuzu\, Malawi
CATEGORIES:Graduation
ATTACH;FMTTYPE=image/jpeg:https://www.mzuni.ac.mw/wp-content/uploads/2026/01/MZUNI-Congregation.jpg
ORGANIZER;CN="Mzuzu University":MAILTO:info@mzuni.ac.mw
END:VEVENT
END:VCALENDAR